BEGIN:VCALENDAR
VERSION:2.0
PRODID:-//Conway Arena - ECPv5.14.1//NONSGML v1.0//EN
CALSCALE:GREGORIAN
METHOD:PUBLISH
X-WR-CALNAME:Conway Arena
X-ORIGINAL-URL:https://conwayarena.com
X-WR-CALDESC:Events for Conway Arena
REFRESH-INTERVAL;VALUE=DURATION:PT1H
X-Robots-Tag:noindex
X-PUBLISHED-TTL:PT1H
BEGIN:VTIMEZONE

END:VTIMEZONE
BEGIN:VEVENT
DTSTART;TZID=America/New_York:20260419T091509
DTEND;TZID=America/New_York:20200128T144000
DTSTAMP:20260419T091509
CREATED:20200128T193824Z
LAST-MODIFIED:20200128T193824Z
UID:9241-0-1580222400@conwayarena.com
SUMMARY:Youth Stick Practice-Full Gear
DESCRIPTION:
URL:https://conwayarena.com/event/youth-stick-practice-full-gear-4/
CATEGORIES:Youth Stick Practice
END:VEVENT
BEGIN:VEVENT
DTSTART;TZID=America/New_York:20170806T084000
DTEND;TZID=America/New_York:20170806T095000
DTSTAMP:20260419T091509
CREATED:20170724T185731Z
LAST-MODIFIED:20170724T185731Z
UID:5758-1502008800-1502013000@conwayarena.com
SUMMARY:Youth Stick Practice
DESCRIPTION:
URL:https://conwayarena.com/event/youth-stick-practice-3/2017-08-06/
CATEGORIES:Youth Stick Practice
END:VEVENT
BEGIN:VEVENT
DTSTART;TZID=America/New_York:20170826T111000
DTEND;TZID=America/New_York:20170826T122000
DTSTAMP:20260419T091509
CREATED:20170727T142908Z
LAST-MODIFIED:20170824T145328Z
UID:5776-1503745800-1503750000@conwayarena.com
SUMMARY:Youth Stick Practice- TIME CHANGE
DESCRIPTION:
URL:https://conwayarena.com/event/youth/
CATEGORIES:Youth Stick Practice
END:VEVENT
END:VCALENDAR